BEGIN:VCALENDAR
VERSION:2.0
PRODID:-//Grace Episcopal Church//Events//EN
CALSCALE:GREGORIAN
METHOD:PUBLISH
BEGIN:VEVENT
UID:a34583f1-fba8-49c4-8bfe-7d277a783c1d@graceepiscopalwpb.org
DTSTAMP:20260426T002633Z
DTSTART:20260426T100000Z
DTEND:20260426T110000Z
SUMMARY:Sunday Holy Eucharist\, Sung Service
DESCRIPTION:A welcoming Sunday sung Eucharist with scripture\, sermon\, prayer\, music\, and communion.
LOCATION:Main Church
URL:https://gracewpb.erinovasolutions.com/events/sunday-holy-eucharist-sung-service
END:VEVENT
END:VCALENDAR
