BEGIN:VCALENDAR
VERSION:2.0
PRODID:-//Grace Episcopal Church//Events//EN
CALSCALE:GREGORIAN
METHOD:PUBLISH
BEGIN:VEVENT
UID:db169147-057c-4ba6-a932-249c3cbfe377@graceepiscopalwpb.org
DTSTAMP:20260426T014956Z
DTSTART:20260426T080000Z
DTEND:20260426T090000Z
SUMMARY:Sunday Holy Eucharist\, Said Service
DESCRIPTION:A quiet Sunday Holy Eucharist service in English.
LOCATION:Main Church
URL:https://gracewpb.erinovasolutions.com/events/sunday-holy-eucharist-said-service
END:VEVENT
BEGIN:VEVENT
UID:a34583f1-fba8-49c4-8bfe-7d277a783c1d@graceepiscopalwpb.org
DTSTAMP:20260426T014956Z
DTSTART:20260426T100000Z
DTEND:20260426T110000Z
SUMMARY:Sunday Holy Eucharist\, Sung Service
DESCRIPTION:A welcoming Sunday sung Eucharist with scripture\, sermon\, prayer\, music\, and communion.
LOCATION:Main Church
URL:https://gracewpb.erinovasolutions.com/events/sunday-holy-eucharist-sung-service
END:VEVENT
BEGIN:VEVENT
UID:43e2a3c6-b038-44f2-8c59-92df7bad3028@graceepiscopalwpb.org
DTSTAMP:20260426T014956Z
DTSTART:20260428T170000Z
DTEND:20260428T180000Z
SUMMARY:Education for Ministry
DESCRIPTION:Weekly theological education and formation.
LOCATION:Grace Episcopal Church
URL:https://gracewpb.erinovasolutions.com/events/education-for-ministry-weekly
END:VEVENT
BEGIN:VEVENT
UID:fd4636ce-7e71-4081-87c3-4015e3f3d641@graceepiscopalwpb.org
DTSTAMP:20260426T014956Z
DTSTART:20260429T100000Z
DTEND:20260429T110000Z
SUMMARY:Wednesday Holy Eucharist and Healing Service
DESCRIPTION:A midweek Holy Eucharist and healing service in English.
LOCATION:Main Church
URL:https://gracewpb.erinovasolutions.com/events/wednesday-holy-eucharist-healing-service
END:VEVENT
BEGIN:VEVENT
UID:eedfe531-378c-4020-b6eb-89266b13b636@graceepiscopalwpb.org
DTSTAMP:20260426T014956Z
DTSTART:20260429T190000Z
DTEND:20260429T200000Z
SUMMARY:Choir Rehearsal
DESCRIPTION:Weekly choir rehearsal supporting Sunday worship.
LOCATION:Choir Room
URL:https://gracewpb.erinovasolutions.com/events/choir-rehearsal
END:VEVENT
END:VCALENDAR
